BEGIN:VCALENDAR
VERSION:2.0
PRODID:-//York Dance Academy - ECPv6.15.20//NONSGML v1.0//EN
CALSCALE:GREGORIAN
METHOD:PUBLISH
X-ORIGINAL-URL:https://yorkdance.com
X-WR-CALDESC:Events for York Dance Academy
REFRESH-INTERVAL;VALUE=DURATION:PT1H
X-Robots-Tag:noindex
X-PUBLISHED-TTL:PT1H
BEGIN:VTIMEZONE
TZID:America/Toronto
BEGIN:DAYLIGHT
TZOFFSETFROM:-0500
TZOFFSETTO:-0400
TZNAME:EDT
DTSTART:20170312T070000
END:DAYLIGHT
BEGIN:STANDARD
TZOFFSETFROM:-0400
TZOFFSETTO:-0500
TZNAME:EST
DTSTART:20171105T060000
END:STANDARD
BEGIN:DAYLIGHT
TZOFFSETFROM:-0500
TZOFFSETTO:-0400
TZNAME:EDT
DTSTART:20180311T070000
END:DAYLIGHT
BEGIN:STANDARD
TZOFFSETFROM:-0400
TZOFFSETTO:-0500
TZNAME:EST
DTSTART:20181104T060000
END:STANDARD
BEGIN:DAYLIGHT
TZOFFSETFROM:-0500
TZOFFSETTO:-0400
TZNAME:EDT
DTSTART:20190310T070000
END:DAYLIGHT
BEGIN:STANDARD
TZOFFSETFROM:-0400
TZOFFSETTO:-0500
TZNAME:EST
DTSTART:20191103T060000
END:STANDARD
BEGIN:DAYLIGHT
TZOFFSETFROM:-0500
TZOFFSETTO:-0400
TZNAME:EDT
DTSTART:20200308T070000
END:DAYLIGHT
BEGIN:STANDARD
TZOFFSETFROM:-0400
TZOFFSETTO:-0500
TZNAME:EST
DTSTART:20201101T060000
END:STANDARD
BEGIN:DAYLIGHT
TZOFFSETFROM:-0500
TZOFFSETTO:-0400
TZNAME:EDT
DTSTART:20210314T070000
END:DAYLIGHT
BEGIN:STANDARD
TZOFFSETFROM:-0400
TZOFFSETTO:-0500
TZNAME:EST
DTSTART:20211107T060000
END:STANDARD
BEGIN:DAYLIGHT
TZOFFSETFROM:-0500
TZOFFSETTO:-0400
TZNAME:EDT
DTSTART:20220313T070000
END:DAYLIGHT
BEGIN:STANDARD
TZOFFSETFROM:-0400
TZOFFSETTO:-0500
TZNAME:EST
DTSTART:20221106T060000
END:STANDARD
BEGIN:DAYLIGHT
TZOFFSETFROM:-0500
TZOFFSETTO:-0400
TZNAME:EDT
DTSTART:20230312T070000
END:DAYLIGHT
BEGIN:STANDARD
TZOFFSETFROM:-0400
TZOFFSETTO:-0500
TZNAME:EST
DTSTART:20231105T060000
END:STANDARD
BEGIN:DAYLIGHT
TZOFFSETFROM:-0500
TZOFFSETTO:-0400
TZNAME:EDT
DTSTART:20240310T070000
END:DAYLIGHT
BEGIN:STANDARD
TZOFFSETFROM:-0400
TZOFFSETTO:-0500
TZNAME:EST
DTSTART:20241103T060000
END:STANDARD
BEGIN:DAYLIGHT
TZOFFSETFROM:-0500
TZOFFSETTO:-0400
TZNAME:EDT
DTSTART:20250309T070000
END:DAYLIGHT
BEGIN:STANDARD
TZOFFSETFROM:-0400
TZOFFSETTO:-0500
TZNAME:EST
DTSTART:20251102T060000
END:STANDARD
BEGIN:DAYLIGHT
TZOFFSETFROM:-0500
TZOFFSETTO:-0400
TZNAME:EDT
DTSTART:20260308T070000
END:DAYLIGHT
BEGIN:STANDARD
TZOFFSETFROM:-0400
TZOFFSETTO:-0500
TZNAME:EST
DTSTART:20261101T060000
END:STANDARD
END:VTIMEZONE
BEGIN:VEVENT
DTSTART;TZID=America/Toronto:20250721T180000
DTEND;TZID=America/Toronto:20250721T210000
DTSTAMP:20260421T173640
CREATED:20250704T160652Z
LAST-MODIFIED:20250704T160652Z
UID:25296-1753120800-1753131600@yorkdance.com
SUMMARY:Acro Workshop (Stouffville)
DESCRIPTION:Calling all dancers! Join us on July 21st for an exciting Acro Workshop with Courtney Nurnberger at our Stouffville location. This is a great opportunity to strengthen your technique\, improve flexibility\, and learn new skills in a fun and supportive environment. \nEach level will receive a full hour of focused training. The schedule is as follows:\n6:00 to 7:00 PM – Beginner\n7:00 to 8:00 PM – Intermediate\n8:00 to 9:00 PM – Advanced \nThe cost is $25 per class. Don’t miss this chance to flip\, stretch\, and grow your acro skills.
URL:https://yorkdance.com/event/acro-workshop-stouffville/
LOCATION:YDA Stouffville\, 30 Innovator Ave.\, Stouffville\, Ontario\, L4A 0V6\, Canada
CATEGORIES:Summer 2025
ATTACH;FMTTYPE=image/jpeg:https://yorkdance.com/wp-content/uploads/2025/07/IMG_1792.jpeg
END:VEVENT
BEGIN:VEVENT
DTSTART;TZID=America/Toronto:20250721T170000
DTEND;TZID=America/Toronto:20250721T180000
DTSTAMP:20260421T173640
CREATED:20250630T170009Z
LAST-MODIFIED:20250708T160815Z
UID:25253-1753117200-1753120800@yorkdance.com
SUMMARY:Teddy Bear Fundraiser (Newmarket)
DESCRIPTION:Get ready to move!\nInspired by The Teddy Bear Workout Program created by Angela Tucker (YDA Director)\, this playful dance class teaches your little ones the joy of movement through music\, dance\, stretching\, and a cool-down. \nWhat to Expect:\nFun cardio/strength-building songs!\nCreative movement & teddy bears!\n$20.00\nProceeds donated to the Southlake Hospital
URL:https://yorkdance.com/event/teddy-bear-workshop-newmarket/
LOCATION:YDA Newmarket\, 17665 Leslie Street\, Newmarket\, Ontario\, L3Y 3E3\, Canada
CATEGORIES:Summer 2025
ATTACH;FMTTYPE=image/jpeg:https://yorkdance.com/wp-content/uploads/2025/06/IMG_1788.jpeg
END:VEVENT
BEGIN:VEVENT
DTSTART;VALUE=DATE:20250721
DTEND;VALUE=DATE:20250726
DTSTAMP:20260421T173640
CREATED:20250704T194735Z
LAST-MODIFIED:20250704T194735Z
UID:25332-1753056000-1753487999@yorkdance.com
SUMMARY:Garden Fairies Half Day Camp
DESCRIPTION:Our themed Munchkin Movement Camps for children between the ages of 3-6 years\, are a fantastic way for your child to spend their summer being active\, creative and engaged! All camps include dancing\, crafts\, games\, outdoor activities and so much fun! Each week takes on a different theme which is integrated into your child’s crafts\, music and dancing. At the end of the week your child will participate in a dance performance to show all of the moves they have learned all week long. Combine two camps to enjoy a full day of fun and activities at the studio! \nFEE: $159.00 + HST
URL:https://yorkdance.com/event/garden-fairies-half-day-camp/
LOCATION:Ontario
CATEGORIES:Summer Camps 2025
ATTACH;FMTTYPE=image/jpeg:https://yorkdance.com/wp-content/uploads/2025/07/Munchkin-Movement-2025B.zip-WEB-GARDEN-FAIRIES-2025.jpg
END:VEVENT
BEGIN:VEVENT
DTSTART;VALUE=DATE:20250721
DTEND;VALUE=DATE:20250726
DTSTAMP:20260421T173640
CREATED:20250704T194552Z
LAST-MODIFIED:20250704T194552Z
UID:25329-1753056000-1753487999@yorkdance.com
SUMMARY:Circus Performers Half Day Camp
DESCRIPTION:Our themed Munchkin Movement Camps for children between the ages of 3-6 years\, are a fantastic way for your child to spend their summer being active\, creative and engaged! All camps include dancing\, crafts\, games\, outdoor activities and so much fun! Each week takes on a different theme which is integrated into your child’s crafts\, music and dancing. At the end of the week your child will participate in a dance performance to show all of the moves they have learned all week long. Combine two camps to enjoy a full day of fun and activities at the studio! \nFEE: $159.00 + HST
URL:https://yorkdance.com/event/circus-performers-half-day-camp/
LOCATION:Ontario
CATEGORIES:Summer Camps 2025
ATTACH;FMTTYPE=image/jpeg:https://yorkdance.com/wp-content/uploads/2025/07/Munchkin-Movement-2025B.zip-WEB-Circus-Performers-2025.jpg
END:VEVENT
BEGIN:VEVENT
DTSTART;TZID=America/Toronto:20250714T180000
DTEND;TZID=America/Toronto:20250714T210000
DTSTAMP:20260421T173640
CREATED:20250704T160757Z
LAST-MODIFIED:20250714T135813Z
UID:25293-1752516000-1752526800@yorkdance.com
SUMMARY:Contemporary Workshop (Stouffville)
DESCRIPTION:Get ready dancers! We’re excited to be hosting a Contemporary Workshop with Bryanna Persaud on July 14th at our Stouffville location. Dancers of all levels are welcome to join us for an inspiring evening of movement and creativity. \nEach level will receive a full hour of focused instruction. The schedule is as follows:\n6:00 to 7:00 PM – Beginner – Intro to Contemporary 7-11 years\n7:00 to 8:00 PM – Intermediate/Beginner 10+ \n8:00 to 9:00 PM – Advanced – Previous Experence Required 13-21 years \nThe cost is $25 per class. Come explore\, learn\, and grow with us! This is a workshop you won’t want to miss!\nPlease register through your parent portal or call/email the studio.
URL:https://yorkdance.com/event/contemporary-workshop/
LOCATION:YDA Stouffville\, 30 Innovator Ave.\, Stouffville\, Ontario\, L4A 0V6\, Canada
CATEGORIES:Summer 2025
ATTACH;FMTTYPE=image/jpeg:https://yorkdance.com/wp-content/uploads/2025/07/IMG_1793.jpeg
END:VEVENT
BEGIN:VEVENT
DTSTART;VALUE=DATE:20250714
DTEND;VALUE=DATE:20250719
DTSTAMP:20260421T173640
CREATED:20250704T195952Z
LAST-MODIFIED:20250704T195952Z
UID:25346-1752451200-1752883199@yorkdance.com
SUMMARY:Art & Dance Camp
DESCRIPTION:The full day camp is designed to develop your childs creative skills while encouraging fun and originality in a supportive studio environment. Your child will enjoy a variety of dance classes and activities in the morning and fine arts instruction in the afternoon. Participants will create watercolours\, pottery and fun-filled arts and crafts which they can take home at the end of the week. \nFEE: $325.00 + HST
URL:https://yorkdance.com/event/art-dance-camp/
LOCATION:Ontario
CATEGORIES:S25 Full Day Camp
ATTACH;FMTTYPE=image/jpeg:https://yorkdance.com/wp-content/uploads/2025/07/ACRO-CAMP-NMKT-JULY-31st-Instagram-Post-45.jpg
END:VEVENT
BEGIN:VEVENT
DTSTART;VALUE=DATE:20250714
DTEND;VALUE=DATE:20250719
DTSTAMP:20260421T173640
CREATED:20250704T194320Z
LAST-MODIFIED:20250704T194320Z
UID:25321-1752451200-1752883199@yorkdance.com
SUMMARY:Mermaids & Melodies Half Day Camp
DESCRIPTION:Our themed Munchkin Movement Camps for children between the ages of 3-6 years\, are a fantastic way for your child to spend their summer being active\, creative and engaged! All camps include dancing\, crafts\, games\, outdoor activities and so much fun! Each week takes on a different theme which is integrated into your child’s crafts\, music and dancing. At the end of the week your child will participate in a dance performance to show all of the moves they have learned all week long. Combine two camps to enjoy a full day of fun and activities at the studio! \nFEE: $159.00 + HST
URL:https://yorkdance.com/event/mermaids-melodies-half-day-camp/
LOCATION:Ontario
CATEGORIES:Summer Camps 2025
ATTACH;FMTTYPE=image/jpeg:https://yorkdance.com/wp-content/uploads/2025/07/Munchkin-Movement-2025B.zip-WEB-MERMAIDS-AND-MELODIES-2025.jpg
END:VEVENT
BEGIN:VEVENT
DTSTART;VALUE=DATE:20250714
DTEND;VALUE=DATE:20250719
DTSTAMP:20260421T173640
CREATED:20250704T194249Z
LAST-MODIFIED:20250704T194249Z
UID:25326-1752451200-1752883199@yorkdance.com
SUMMARY:Pirates & Princesses Half Day Camp
DESCRIPTION:Our themed Munchkin Movement Camps for children between the ages of 3-6 years\, are a fantastic way for your child to spend their summer being active\, creative and engaged! All camps include dancing\, crafts\, games\, outdoor activities and so much fun! Each week takes on a different theme which is integrated into your child’s crafts\, music and dancing. At the end of the week your child will participate in a dance performance to show all of the moves they have learned all week long. Combine two camps to enjoy a full day of fun and activities at the studio! \nFEE: $159.00 + HST
URL:https://yorkdance.com/event/pirates-princesses-half-day-camp/
LOCATION:Ontario
CATEGORIES:Summer Camps 2025
ATTACH;FMTTYPE=image/jpeg:https://yorkdance.com/wp-content/uploads/2025/07/Munchkin-Movement-2025B.zip-WEB-Pirates-Princesses-2025.jpg
END:VEVENT
BEGIN:VEVENT
DTSTART;TZID=America/Toronto:20221218T140000
DTEND;TZID=America/Toronto:20221218T160000
DTSTAMP:20260421T173640
CREATED:20221129T183719Z
LAST-MODIFIED:20221129T184322Z
UID:24104-1671372000-1671379200@yorkdance.com
SUMMARY:Nutcracker 2022
DESCRIPTION:Tickets for the Nutcracker are now on sale.\nThe performance is at 2:00 PM on December 18th. \nTickets can be purchased at Newtix.ca or by calling the box office at 905-953-5122.
URL:https://yorkdance.com/event/nutcracker-2022/
LOCATION:Ontario
ATTACH;FMTTYPE=image/jpeg:https://yorkdance.com/wp-content/uploads/2022/11/Nutcracker-2022-resize.jpg
END:VEVENT
BEGIN:VEVENT
DTSTART;TZID=America/Toronto:20221205T160000
DTEND;TZID=America/Toronto:20221218T210000
DTSTAMP:20260421T173640
CREATED:20221129T181259Z
LAST-MODIFIED:20221129T183121Z
UID:24098-1670256000-1671397200@yorkdance.com
SUMMARY:Holiday Open House
DESCRIPTION:From Monday\, December 5th to Sunday\, December 18th\, dancers will be given the opportunity to invite immediate family members to come to their classes and view their progress so far. As there is limited studio space\, dancers will be given a green or red invitation to indicate which week families are invited to attend. Please note\, dancers are to attend both weeks. Please notify the desk if you are unable to attend the week you are invited to as the office will modify the “guest list” accordingly. During the open house\, cameras are welcome; however\, we ask that the flash be turned off as it is distracting for our dancers. We are still limiting bodies in the studio and this event is meant to be able to share your dancers’ progress and view what they do in class. Our recital performance happens in June and this will be the opportunity for you to invite extended family members to watch the show.
URL:https://yorkdance.com/event/holiday-open-house/
LOCATION:Ontario
ATTACH;FMTTYPE=image/jpeg:https://yorkdance.com/wp-content/uploads/2022/11/HolidayOpenHouse.jpg
END:VEVENT
BEGIN:VEVENT
DTSTART;TZID=America/Toronto:20220515T130000
DTEND;TZID=America/Toronto:20220515T143000
DTSTAMP:20260421T173640
CREATED:20220503T001509Z
LAST-MODIFIED:20220503T002635Z
UID:23852-1652619600-1652625000@yorkdance.com
SUMMARY:POP UP - Craft Class - Aurora
DESCRIPTION:
URL:https://yorkdance.com/event/pop-up-craft-class/
LOCATION:YDA Aurora\, 305 Industrial Pkwy S\, Aurora\, Ontario\, L4G 6X7\, Canada
ORGANIZER;CN="York Dance Academy":MAILTO:info@yorkdance.com
END:VEVENT
BEGIN:VEVENT
DTSTART;TZID=America/Toronto:20220514T120000
DTEND;TZID=America/Toronto:20220514T133000
DTSTAMP:20260421T173640
CREATED:20220503T002549Z
LAST-MODIFIED:20220503T132901Z
UID:23861-1652529600-1652535000@yorkdance.com
SUMMARY:POP UP - Craft Class - Stouffville
DESCRIPTION:
URL:https://yorkdance.com/event/pop-up-craft-class-stouffville/
LOCATION:YDA Stouffville\, 30 Innovator Ave.\, Stouffville\, Ontario\, L4A 0V6\, Canada
ORGANIZER;CN="York Dance Academy":MAILTO:info@yorkdance.com
END:VEVENT
BEGIN:VEVENT
DTSTART;TZID=America/Toronto:20210214T120000
DTEND;TZID=America/Toronto:20210214T160000
DTSTAMP:20260421T173640
CREATED:20210202T232505Z
LAST-MODIFIED:20210202T234648Z
UID:15752-1613304000-1613318400@yorkdance.com
SUMMARY:VALENTINE'S DAY VIRTUAL DANCE WORKSHOP
DESCRIPTION:Come together and raise money for children’s mental health!\nA dance workshop for our Dancing Together 6 Feet Apart campaign. \nRaising awareness. \nCreating community. \nAll for children’s mental health. \n$40 Includes 4 virtual classes with Master Teachers and Competition Directors PLUS your own Dancing Together 6 Feet Apart t-Shirt sent directly to you! \nRegister on EVENTBRITE or email info@yorkdance.com \n*already have a shirt? contact us for a discount code for the workshop only! \nValentine’s Day Virtual Dance Workshop – Dancing Together 6 Feet Apart uniting dancers around the world.  Proceeds raised from the Dancing Together Six Feet Apart Campaign are donated to local\, regional\, and national Children’s Mental Health Organizations.\nT-shirts are available in black or white\, in crop or full length styles (fitted or unisex).\n  \n* 12:00 -1:00 – Jordana Cohen/Xtreme Dance Champions – Warm-up Stretch/Acro (Beg/Inter/Adv.) \n* 1:00 – 2:00 – Rachelle Seguin/Elevation Dance Challenge – Jazz (Inter/Adv.) \n* 2:00-3:00 – Natalie Sebastian/En Pointe & Just Dance – Ballet (Beg/Inter) – please bring a small scarf to dance with. \n* 3:00-4:00 – Annie Wood/Breaking Bounds Dance Challenge – Contemporary (Inter/Adv.)\n  \nWhen you have received your T-shirt please take a photo of you in the shirt\, doing your favourite dance step and tag your studio and #dancingtogether6feetapart \nPayment and registration can also be done by email to info@yorkdance.com. Interac e-transfers to be sent to payments@yorkdance.com. Please also provide us with your dancers t-shirt style\, colour and size.\nALREADY HAVE A SHIRT? – contact us for a DISCOUNT CODE and attend the workshop for $20.\nWe are truly in this together!!
URL:https://yorkdance.com/event/valentines-day-virtual-dance-workshop/
LOCATION:Ontario
CATEGORIES:Fundraiser
ATTACH;FMTTYPE=image/gif:https://yorkdance.com/wp-content/uploads/2021/02/CMHO-Workshop2web.gif
END:VEVENT
BEGIN:VEVENT
DTSTART;TZID=America/Toronto:20190621T120000
DTEND;TZID=America/Toronto:20190621T190000
DTSTAMP:20260421T173640
CREATED:20190210T180739Z
LAST-MODIFIED:20190210T180739Z
UID:14766-1561118400-1561143600@yorkdance.com
SUMMARY:Drive for Show - YDA's 1st Annual Golf Tournament
DESCRIPTION:SAVE THE DATE! \nOn Friday\, June 21\, 2019 we will be holding our first annual golf tournament at Wooden Sticks Golf Club in Uxbridge. \nThe purpose of this event is to fund-raise for YDA’s sponsorship program. Over the last number of years\, there has been quite an increase in the costs for a competitive dancer to participate in high-level competitive programs. Unfortunately\, many families encounter unforeseen financial circumstances that restrict their ability to continue to support their child’s dance training. To assist these dancers\, we are very excited to introduce our very own scholarship program. \nThis tournament is a wonderful way to kick-off the program and have a great day with all of our participants! The day includes lunch & dinner\, a round of golf\, giveaways and a show (during dinner). \nWe are looking for both players and sponsors. \nIf you are interested please visit this form to register. If you have any questions\, please don’t hesitate to reach out to our sponsorship coordinator\, Veronica Laxamana at info@yorkdance.com or by phone at 647-998-8432.
URL:https://yorkdance.com/event/drive-for-show/
LOCATION:Wooden Sticks Golf Club\, 40 Elgin Park Drive\, Uxbridge\, Ontario\, L9P 1N2\, Canada
CATEGORIES:Fundraiser
ATTACH;FMTTYPE=image/png:https://yorkdance.com/wp-content/uploads/2019/02/Drive-for-show.png
ORGANIZER;CN="York Dance Academy":MAILTO:info@yorkdance.com
END:VEVENT
BEGIN:VEVENT
DTSTART;TZID=America/Toronto:20190302T130000
DTEND;TZID=America/Toronto:20190302T210000
DTSTAMP:20260421T173640
CREATED:20190210T184453Z
LAST-MODIFIED:20190210T184453Z
UID:14776-1551531600-1551560400@yorkdance.com
SUMMARY:YDA Competitive Gala
DESCRIPTION:It’s that time of year! We are so excited to kick off the 2019 competitive season with our competitive Gala. \nThe Gala showcases all of the wonderful numbers we have in store for the 2018/2019 competitive season! We are so excited to get this season started! \nWe are pleased to offer both Matinee and Evening shows. \nSaturday\, March 2\nMatinee – 1pm\nEvening – 7pm\nTickets are $26 per show or $47 for both (must call box office for this offer) \nTickets are to be purchased through the Newmarket Theatre Box Office through their website or by calling. Please see the side bar for contact details.
URL:https://yorkdance.com/event/yda-competitive-gala/
LOCATION:Newmarket Theatre\, 505 Pickering Crescent\, Newmarket\, Ontario\, L3Y 8H1\, Canada
CATEGORIES:Competitive,Performances
ATTACH;FMTTYPE=image/png:https://yorkdance.com/wp-content/uploads/2019/02/Gala.png
ORGANIZER;CN="York Dance Academy":MAILTO:info@yorkdance.com
END:VEVENT
BEGIN:VEVENT
DTSTART;TZID=America/Toronto:20190228T170000
DTEND;TZID=America/Toronto:20190228T193000
DTSTAMP:20260421T173640
CREATED:20190210T184002Z
LAST-MODIFIED:20190212T220248Z
UID:14772-1551373200-1551382200@yorkdance.com
SUMMARY:YDA Competitive Gala - Solo Night
DESCRIPTION:It’s that time of year! We are so excited to kick off the 2019 competitive season with our competitive Gala. \nWe are pleased to first share with you our SOLO NIGHT. A beautiful evening to share our soloist numbers of the season. \nThursday\, February 28 – 5pm\nTickets are $5 at the door.
URL:https://yorkdance.com/event/yda-competitive-gala-solo/
LOCATION:Newmarket Theatre\, 505 Pickering Crescent\, Newmarket\, Ontario\, L3Y 8H1\, Canada
CATEGORIES:Competitive,Performances
ATTACH;FMTTYPE=image/png:https://yorkdance.com/wp-content/uploads/2019/02/Gala.png
ORGANIZER;CN="York Dance Academy":MAILTO:info@yorkdance.com
END:VEVENT
BEGIN:VEVENT
DTSTART;TZID=America/Toronto:20190210T140000
DTEND;TZID=America/Toronto:20190210T170000
DTSTAMP:20260421T173640
CREATED:20181216T175337Z
LAST-MODIFIED:20181216T175337Z
UID:14663-1549807200-1549818000@yorkdance.com
SUMMARY:Young Artists' Showcase
DESCRIPTION:Come out this February to support your fellow YDA dancers as they perform in the Young Artists’ Showcase presented by Visual & Performing Arts Newmarket. This show is an exciting way to support the local arts community and see some other amazing acts from here at home! \nCheck out VPAN’s website for more details and to purchase tickets for the event. It’s one you won’t want to miss! \nYoungArtists2019_8.5x14Poster1
URL:https://yorkdance.com/event/young-artists-showcase/
LOCATION:Old Town Hall\, 460 Botsford Street\, Newmarket\, Ontario\, L3Y 1T1\, Canada
CATEGORIES:Performances
ATTACH;FMTTYPE=image/jpeg:https://yorkdance.com/wp-content/uploads/2018/12/youngartists.jpg
END:VEVENT
BEGIN:VEVENT
DTSTART;VALUE=DATE:20181221
DTEND;VALUE=DATE:20181222
DTSTAMP:20260421T173640
CREATED:20181216T183249Z
LAST-MODIFIED:20181216T183249Z
UID:14672-1545350400-1545436799@yorkdance.com
SUMMARY:YDA goes to NYC
DESCRIPTION:Join us on this incredible opportunity to see New York City and the great things it has to offer the dance world! It’ll be a wonderful weekend to bond with your team and explore the city. \nRegistration deadline is DECEMBER 21. \nThe trip will take place from May 16-20\, 2019.
URL:https://yorkdance.com/event/yda-goes-to-nyc/
LOCATION:New York City\, United States
CATEGORIES:Team Bonding,Travel
ATTACH;FMTTYPE=image/jpeg:https://yorkdance.com/wp-content/uploads/2018/12/nyc.jpg
ORGANIZER;CN="York Dance Academy":MAILTO:info@yorkdance.com
END:VEVENT
BEGIN:VEVENT
DTSTART;TZID=America/Toronto:20181028T120000
DTEND;TZID=America/Toronto:20181028T153000
DTSTAMP:20260421T173640
CREATED:20181216T185821Z
LAST-MODIFIED:20181216T185821Z
UID:14679-1540728000-1540740600@yorkdance.com
SUMMARY:Elite Performance Mindset Workshop - Thinking and Acting
DESCRIPTION:YDA is excited to announce that we have set up a 3 part workshop series\, which will help dancers remove the stumbling blocks that prevent them from achieving ultimate success\, taught by Elina Bagshaw (B.Sc.\, TC RAD\, MNLP)  \nWith over 40 years’ experience in the dance industry\, Elina’s dance training included Ballet and Jazz. She completed Royal Academy of Dance exams at the Vocational Level and competed at numerous dance competitions throughout North America. \nElina has a lifelong connection with children during which she taught and choreographed Ballet\, Jazz and Lyrical for 27+ years at both recreational and competitive levels. Combined with Elina’s fascination of science and how the brain works\, her desire to instill confidence and achievement in children led her to open Aim Educational Services Inc. 8 years ago. Aim’s focus has been on academic performance and Mindset Mastery™. \nElina’s diverse background includes teaching\, sales\, entrepreneur\, and being a mother. As a business owner\, she is active in the community and is Co-chair of Ladies in Philanthropy for Southlake and an Activator with SheEO. Elina also received the Business Women’s Network of York Region award in 2015 for promoting Literacy. As a leader in training Mindset Mastery™ she speaks\, teaches\, trains and coaches regularly to both individuals and groups. \nDue to Elina’s unique credentials and love of dance\, she has combined Mindset Mastery™ with her technical dance skill knowledge and developed Elite Performance Mindset™ for Dancers. This program teaches dancers how to earn the achievement\, awards and recognition they are looking for. \nThese workshops are offered to YDA competitive dancers at a fantastic rate. Please call our office for more details.
URL:https://yorkdance.com/event/elite-performance-mindset-workshop-thinking-and-acting/
LOCATION:YDA Newmarket\, 17665 Leslie Street\, Newmarket\, Ontario\, L3Y 3E3\, Canada
CATEGORIES:Competitive
ATTACH;FMTTYPE=image/jpeg:https://yorkdance.com/wp-content/uploads/2018/12/qtq80-9eAQMz.jpeg
ORGANIZER;CN="York Dance Academy":MAILTO:info@yorkdance.com
END:VEVENT
END:VCALENDAR