BEGIN:VCALENDAR
VERSION:2.0
PRODID:-//York Dance Academy - ECPv6.15.20//NONSGML v1.0//EN
CALSCALE:GREGORIAN
METHOD:PUBLISH
X-WR-CALNAME:York Dance Academy
X-ORIGINAL-URL:https://yorkdance.com
X-WR-CALDESC:Events for York Dance Academy
REFRESH-INTERVAL;VALUE=DURATION:PT1H
X-Robots-Tag:noindex
X-PUBLISHED-TTL:PT1H
BEGIN:VTIMEZONE
TZID:America/Toronto
BEGIN:DAYLIGHT
TZOFFSETFROM:-0500
TZOFFSETTO:-0400
TZNAME:EDT
DTSTART:20240310T070000
END:DAYLIGHT
BEGIN:STANDARD
TZOFFSETFROM:-0400
TZOFFSETTO:-0500
TZNAME:EST
DTSTART:20241103T060000
END:STANDARD
BEGIN:DAYLIGHT
TZOFFSETFROM:-0500
TZOFFSETTO:-0400
TZNAME:EDT
DTSTART:20250309T070000
END:DAYLIGHT
BEGIN:STANDARD
TZOFFSETFROM:-0400
TZOFFSETTO:-0500
TZNAME:EST
DTSTART:20251102T060000
END:STANDARD
BEGIN:DAYLIGHT
TZOFFSETFROM:-0500
TZOFFSETTO:-0400
TZNAME:EDT
DTSTART:20260308T070000
END:DAYLIGHT
BEGIN:STANDARD
TZOFFSETFROM:-0400
TZOFFSETTO:-0500
TZNAME:EST
DTSTART:20261101T060000
END:STANDARD
END:VTIMEZONE
BEGIN:VEVENT
DTSTART;VALUE=DATE:20250811
DTEND;VALUE=DATE:20250816
DTSTAMP:20260421T142236
CREATED:20250704T200205Z
LAST-MODIFIED:20250704T200205Z
UID:25350-1754870400-1755302399@yorkdance.com
SUMMARY:Broadway Dance Camp
DESCRIPTION:For those who love to sing\, act and dance this camp has it all. Students will take daily vocal\, acting and dance classes to develop their performance skills and explore repertoire from popular musicals including Disneys Encanto\, Frozen\, Moana and more! \nFEE: $325.00 + HST
URL:https://yorkdance.com/event/broadway-dance-camp/
LOCATION:YDA Newmarket\, 17665 Leslie Street\, Newmarket\, Ontario\, L3Y 3E3\, Canada
CATEGORIES:S25 Full Day Camp
ATTACH;FMTTYPE=image/jpeg:https://yorkdance.com/wp-content/uploads/2025/07/ACRO-CAMP-NMKT-JULY-31st-Instagram-Post-45-Broadway.jpg
END:VEVENT
BEGIN:VEVENT
DTSTART;VALUE=DATE:20250728
DTEND;VALUE=DATE:20250802
DTSTAMP:20260421T142236
CREATED:20250704T195706Z
LAST-MODIFIED:20250704T195706Z
UID:25343-1753660800-1754092799@yorkdance.com
SUMMARY:Acro Intensive Dance Camp
DESCRIPTION:Our acro dance camps combine gym based conditioning and stretching exercises with dance technique in ballet\, lyrical and contemporary. Dancers will work on acro skills including aerial work\, balances\, tumbling and contortion movements which they will then integrate into the dance movement to create a variety of choreographic pieces that will be presented to families at the end of the week. \nFEE: $365.00 + HST
URL:https://yorkdance.com/event/acro-intensive-dance-camp/
LOCATION:YDA Aurora\, 305 Industrial Pkwy S\, Aurora\, Ontario\, L4G 6X7\, Canada
CATEGORIES:S25 Full Day Camp
ATTACH;FMTTYPE=image/jpeg:https://yorkdance.com/wp-content/uploads/2025/07/ACRO-CAMP-NMKT-JULY-31st-Instagram-Post-45-1.jpg
END:VEVENT
BEGIN:VEVENT
DTSTART;VALUE=DATE:20250714
DTEND;VALUE=DATE:20250719
DTSTAMP:20260421T142236
CREATED:20250704T195952Z
LAST-MODIFIED:20250704T195952Z
UID:25346-1752451200-1752883199@yorkdance.com
SUMMARY:Art & Dance Camp
DESCRIPTION:The full day camp is designed to develop your childs creative skills while encouraging fun and originality in a supportive studio environment. Your child will enjoy a variety of dance classes and activities in the morning and fine arts instruction in the afternoon. Participants will create watercolours\, pottery and fun-filled arts and crafts which they can take home at the end of the week. \nFEE: $325.00 + HST
URL:https://yorkdance.com/event/art-dance-camp/
LOCATION:Ontario
CATEGORIES:S25 Full Day Camp
ATTACH;FMTTYPE=image/jpeg:https://yorkdance.com/wp-content/uploads/2025/07/ACRO-CAMP-NMKT-JULY-31st-Instagram-Post-45.jpg
END:VEVENT
END:VCALENDAR